BEGIN:VCALENDAR
VERSION:2.0
PRODID:-//NARI Central Indiana - ECPv6.15.20//NONSGML v1.0//EN
CALSCALE:GREGORIAN
METHOD:PUBLISH
X-ORIGINAL-URL:https://www.nariindy.com
X-WR-CALDESC:Events for NARI Central Indiana
REFRESH-INTERVAL;VALUE=DURATION:PT1H
X-Robots-Tag:noindex
X-PUBLISHED-TTL:PT1H
BEGIN:VTIMEZONE
TZID:America/Indiana/Indianapolis
BEGIN:DAYLIGHT
TZOFFSETFROM:-0500
TZOFFSETTO:-0400
TZNAME:EDT
DTSTART:20190310T070000
END:DAYLIGHT
BEGIN:STANDARD
TZOFFSETFROM:-0400
TZOFFSETTO:-0500
TZNAME:EST
DTSTART:20191103T060000
END:STANDARD
BEGIN:DAYLIGHT
TZOFFSETFROM:-0500
TZOFFSETTO:-0400
TZNAME:EDT
DTSTART:20200308T070000
END:DAYLIGHT
BEGIN:STANDARD
TZOFFSETFROM:-0400
TZOFFSETTO:-0500
TZNAME:EST
DTSTART:20201101T060000
END:STANDARD
BEGIN:DAYLIGHT
TZOFFSETFROM:-0500
TZOFFSETTO:-0400
TZNAME:EDT
DTSTART:20210314T070000
END:DAYLIGHT
BEGIN:STANDARD
TZOFFSETFROM:-0400
TZOFFSETTO:-0500
TZNAME:EST
DTSTART:20211107T060000
END:STANDARD
BEGIN:DAYLIGHT
TZOFFSETFROM:-0500
TZOFFSETTO:-0400
TZNAME:EDT
DTSTART:20220313T070000
END:DAYLIGHT
BEGIN:STANDARD
TZOFFSETFROM:-0400
TZOFFSETTO:-0500
TZNAME:EST
DTSTART:20221106T060000
END:STANDARD
END:VTIMEZONE
BEGIN:VEVENT
DTSTART;TZID=America/Indiana/Indianapolis:20210211T113000
DTEND;TZID=America/Indiana/Indianapolis:20210211T130000
DTSTAMP:20260423T063458
CREATED:20210107T183843Z
LAST-MODIFIED:20210107T183843Z
UID:1269-1613043000-1613048400@www.nariindy.com
SUMMARY:Mark Demerly\, AIA Leed AP talks about Green Architecture!
DESCRIPTION:Join Zoom Meeting\nhttps://us02web.zoom.us/j/86564706187?pwd=d1RUQ2VHQ3d1eXNtd25Vam83SHZoQT09 \nMeeting ID: 865 6470 6187\nPasscode: 957577 \nHeading up his own firm allows Mark to focus on what he values most: designing homes for \npeople to enjoy. His professional\, civic and community interests are fueled by his passion for \nmaking Indianapolis communities better places to live. As the Midtown Economic Council \nrepresentative\, he advocates for responsible growth and more public amenities in Midtown \nIndianapolis development. He launched the Broad Ripple Winter Market to support \nsustainability and enable local producers and growers to expand their businesses. In short \norder\, the market became a prized amenity for northside residents. Mark has served as the \npresident for IMA Design Arts and Contemporary Arts support groups\, and is a past president \nand founding member of the national AIA Custom Residential Architect Network committee\, \nwhich has advocated for and increased awareness of the residential architecture profession. He \nserves on Broad Ripple’s Land Use and Development Committee and participates in numerous \nother community initiatives. Mark’s devotion to cooking and food has helped inspire his designs \nfor the restaurants the firm has developed for the city’s top chefs. His love of nature\, hiking and \nthe outdoors has led to community gardens and memorials to those who have contributed \nmuch. \n 
URL:https://www.nariindy.com/event/save-the-date-nari-meeting-tbd/
CATEGORIES:Member Meetings
ATTACH;FMTTYPE=:
END:VEVENT
BEGIN:VEVENT
DTSTART;TZID=America/Indiana/Indianapolis:20201112T113000
DTEND;TZID=America/Indiana/Indianapolis:20201112T130000
DTSTAMP:20260423T063458
CREATED:20200512T200414Z
LAST-MODIFIED:20200512T200414Z
UID:1181-1605180600-1605186000@www.nariindy.com
SUMMARY:Nov 12th - Planning for 2021
DESCRIPTION:2021 is just around the corner\, and while many of us will not be sad to say Goodbye to 2020\, we all have a lot to look forward to in 2021! \nWe will have an open discussion on setting goals for 2021 for you and your business. What changes will you make\, what about supply chain issues\, will you expand or trim expenses? \nThese and a lot more questions will be discussed as we budget and plan to make 2021 successful for you and your business! \nAs always lunch will be provided.
URL:https://www.nariindy.com/event/nov-12th-tbd/
LOCATION:Indiana Design Center\, 200 South Rangeline Road\, Carmel\, IN\, 46032\, United States
CATEGORIES:Member Meetings
END:VEVENT
END:VCALENDAR