BEGIN:VCALENDAR
VERSION:2.0
PRODID:-//NARI Central Indiana - ECPv6.15.20//NONSGML v1.0//EN
CALSCALE:GREGORIAN
METHOD:PUBLISH
X-ORIGINAL-URL:https://www.nariindy.com
X-WR-CALDESC:Events for NARI Central Indiana
REFRESH-INTERVAL;VALUE=DURATION:PT1H
X-Robots-Tag:noindex
X-PUBLISHED-TTL:PT1H
BEGIN:VTIMEZONE
TZID:America/Indiana/Indianapolis
BEGIN:DAYLIGHT
TZOFFSETFROM:-0500
TZOFFSETTO:-0400
TZNAME:EDT
DTSTART:20210314T070000
END:DAYLIGHT
BEGIN:STANDARD
TZOFFSETFROM:-0400
TZOFFSETTO:-0500
TZNAME:EST
DTSTART:20211107T060000
END:STANDARD
BEGIN:DAYLIGHT
TZOFFSETFROM:-0500
TZOFFSETTO:-0400
TZNAME:EDT
DTSTART:20220313T070000
END:DAYLIGHT
BEGIN:STANDARD
TZOFFSETFROM:-0400
TZOFFSETTO:-0500
TZNAME:EST
DTSTART:20221106T060000
END:STANDARD
BEGIN:DAYLIGHT
TZOFFSETFROM:-0500
TZOFFSETTO:-0400
TZNAME:EDT
DTSTART:20230312T070000
END:DAYLIGHT
BEGIN:STANDARD
TZOFFSETFROM:-0400
TZOFFSETTO:-0500
TZNAME:EST
DTSTART:20231105T060000
END:STANDARD
END:VTIMEZONE
BEGIN:VEVENT
DTSTART;TZID=America/Indiana/Indianapolis:20221013T113000
DTEND;TZID=America/Indiana/Indianapolis:20221013T130000
DTSTAMP:20260424T024421
CREATED:20211202T213650Z
LAST-MODIFIED:20211202T213650Z
UID:1410-1665660600-1665666000@www.nariindy.com
SUMMARY:Top Golf!
DESCRIPTION:JOIN US FOR OUR OCTOBER MEMBERSHIP DRIVE AT \nTOP GOLF  \n9200 E 116th STREET \nFISHERS\, IN 46037 \nTHURSDAY\, OCTOBER 13TH @ 11:30 AM – 1:30 PM \nGOLFERS LIMITED TO THE FIRST 30 RESERVATIONS  \nINCLUDES 2 HOURS OF PLAYING TIME\, SOFT DRINKS AND LUNCH BUFFET  \nPLEASE LIMIT 2 PEOPLE PER COMPANY. IF YOU WOULD LIKE ANY ADDITIONAL PLAYERS TO ATTEND\, PLEASE CONTACT KERRI PEEBLES AT PEEBLESKERRI@GMAIL.COM \nRSVP DEADLINE IS OCTOBER 10TH \nTHIS IS OUR FALL MEMBERSHIP DRIVE! IF YOU KNOW OF ANYONE INTERESTED IN NARI\, PLEASE INVITE THEM TO THIS EVENT AND HAVE THEM REGISTER ASAP! \nREGISTER HERE\n  \n  \n  \nWE ARE ALSO SEEKING EVENT SPONSORS\, IF INTERESTED IN A SPONSORSHIP \nCONTACT KERRI PEEBLES AT PEEBLESKERRI@GMAIL.COM
URL:https://www.nariindy.com/event/top-golf/
LOCATION:TopGolf\, 9200 E 116th STREET\, Fishers\, IN\, United States
ATTACH;FMTTYPE=:
END:VEVENT
END:VCALENDAR