BEGIN:VCALENDAR
VERSION:2.0
PRODID:-//NARI Central Indiana - ECPv6.15.20//NONSGML v1.0//EN
CALSCALE:GREGORIAN
METHOD:PUBLISH
X-ORIGINAL-URL:https://www.nariindy.com
X-WR-CALDESC:Events for NARI Central Indiana
REFRESH-INTERVAL;VALUE=DURATION:PT1H
X-Robots-Tag:noindex
X-PUBLISHED-TTL:PT1H
BEGIN:VTIMEZONE
TZID:America/Indiana/Indianapolis
BEGIN:DAYLIGHT
TZOFFSETFROM:-0500
TZOFFSETTO:-0400
TZNAME:EDT
DTSTART:20210314T070000
END:DAYLIGHT
BEGIN:STANDARD
TZOFFSETFROM:-0400
TZOFFSETTO:-0500
TZNAME:EST
DTSTART:20211107T060000
END:STANDARD
BEGIN:DAYLIGHT
TZOFFSETFROM:-0500
TZOFFSETTO:-0400
TZNAME:EDT
DTSTART:20220313T070000
END:DAYLIGHT
BEGIN:STANDARD
TZOFFSETFROM:-0400
TZOFFSETTO:-0500
TZNAME:EST
DTSTART:20221106T060000
END:STANDARD
BEGIN:DAYLIGHT
TZOFFSETFROM:-0500
TZOFFSETTO:-0400
TZNAME:EDT
DTSTART:20230312T070000
END:DAYLIGHT
BEGIN:STANDARD
TZOFFSETFROM:-0400
TZOFFSETTO:-0500
TZNAME:EST
DTSTART:20231105T060000
END:STANDARD
END:VTIMEZONE
BEGIN:VEVENT
DTSTART;TZID=America/Indiana/Indianapolis:20221110T083000
DTEND;TZID=America/Indiana/Indianapolis:20221110T143000
DTSTAMP:20260424T004720
CREATED:20211202T213759Z
LAST-MODIFIED:20211202T213759Z
UID:1412-1668069000-1668090600@www.nariindy.com
SUMMARY:Food Insecurities
DESCRIPTION:Joint service project with NKBA and ASID at Gleaners Opportunity \n  \nLets get out there in the community and make a difference!  \nSign up information is listed below. \nRegistration/Sign Up: \n\nEach volunteer will need to register prior to volunteering on VolunteerHub using your group’s unique link (link below). Registration/sign up takes about 3-5 minutes for a new user.\nClick the link and then click on the blue sign up button next to your volunteer shift. Be sure to choose the correct shift if more than one is listed!\n\nIf you already have a VolunteerHub account\, you will be able to log in to complete your registration.\nIf you do not have a VolunteerHub account\, you will prompted to create one.\n\n\nPlease have all volunteers in your group register and sign up for the shift by Friday\, November 4th\n\nAs the group leader\, once you are registered\, we can set your account so that you can see who is signed up from your group.\n\n\n\nPreparing to Volunteer: \n\nPlease review the volunteer map for more information about where to park and check in once you arrive.\nPlease arrive at the designated arrival time (15 minutes before the start of your shift) to ensure that we have time to get you checked in and trained.\nPlease note: Closed-toe shoes (sneakers\, boots\, etc.) are required when volunteering.\nDue to the increased spread of COVID-19\, Gleaners is implementing additional precautions to protect staff\, volunteers\, and neighbors. Effective Monday\, February 28\, 2022\, masks are optional for all volunteers\, guests\, and visitors at Gleaners.\nWhile we do our very best for a group to stay together\, we cannot make any guarantees. Tasks and assignments are based on need\, staff availability\, products\, number of volunteers\, and much more. We appreciate your understanding in this matter.\n\n  \n  \n\n\n\nVolunteer Shift Recap \n  \nGroup Name: NARI \nNumber of Volunteers: approximately 20-25 volunteers per shift \nDate and time of volunteerism:    8:30-11:30am and 12:30-2:30pm \nDoors will open no later than:  8:15am and 12:15pm \n  \nAll volunteers will register/sign up at the following link: \nhttp://nari.gleaners.volunteerhub.com/ \n  \nRegistration/Sign Up is due by: Friday\, November 4th \n 
URL:https://www.nariindy.com/event/food-insecurities/
LOCATION:Gleaners Food Bank of Indiana\, 3737 Waldemere Avenue\, Indianapolis\, 46241
ATTACH;FMTTYPE=:
END:VEVENT
END:VCALENDAR