BEGIN:VCALENDAR
VERSION:2.0
PRODID:-//NARI Central Indiana - ECPv6.15.20//NONSGML v1.0//EN
CALSCALE:GREGORIAN
METHOD:PUBLISH
X-WR-CALNAME:NARI Central Indiana
X-ORIGINAL-URL:https://www.nariindy.com
X-WR-CALDESC:Events for NARI Central Indiana
REFRESH-INTERVAL;VALUE=DURATION:PT1H
X-Robots-Tag:noindex
X-PUBLISHED-TTL:PT1H
BEGIN:VTIMEZONE
TZID:America/Indiana/Indianapolis
BEGIN:DAYLIGHT
TZOFFSETFROM:-0500
TZOFFSETTO:-0400
TZNAME:EDT
DTSTART:20230312T070000
END:DAYLIGHT
BEGIN:STANDARD
TZOFFSETFROM:-0400
TZOFFSETTO:-0500
TZNAME:EST
DTSTART:20231105T060000
END:STANDARD
BEGIN:DAYLIGHT
TZOFFSETFROM:-0500
TZOFFSETTO:-0400
TZNAME:EDT
DTSTART:20240310T070000
END:DAYLIGHT
BEGIN:STANDARD
TZOFFSETFROM:-0400
TZOFFSETTO:-0500
TZNAME:EST
DTSTART:20241103T060000
END:STANDARD
BEGIN:DAYLIGHT
TZOFFSETFROM:-0500
TZOFFSETTO:-0400
TZNAME:EDT
DTSTART:20250309T070000
END:DAYLIGHT
BEGIN:STANDARD
TZOFFSETFROM:-0400
TZOFFSETTO:-0500
TZNAME:EST
DTSTART:20251102T060000
END:STANDARD
END:VTIMEZONE
BEGIN:VEVENT
DTSTART;TZID=America/Indiana/Indianapolis:20240213T113000
DTEND;TZID=America/Indiana/Indianapolis:20240213T130000
DTSTAMP:20260422T205908
CREATED:20230114T000450Z
LAST-MODIFIED:20240126T195750Z
UID:2016-1707823800-1707829200@www.nariindy.com
SUMMARY:The Building Envelope
DESCRIPTION:Please join us as we kickstart 2024 monthly event schedule!!  We hope to see you all there! \nThis is a great opportunity to learn\, network and connect with peers.  Registration is free (includes lunch)- register today using the button below! \nJohn Babcock\, Siding Specialist\, from Diamond Kote Building Products will discuss external preparation and methods for proper cladding installation. \nMeeting will be held at 84 Lumber Window/Door \n6585 E 30th Street \nIndianapolis\, IN 46219 \nLocated at the far south end of the building \n  \nThank you to our speaker and lunch sponsor: \n \n  \n \n 
URL:https://www.nariindy.com/event/synthesis-porcelain-shower-system/
LOCATION:84 Lumber Window/Door\, 6585 E 30th Street\, Indianapolis\, 46219\, United States
END:VEVENT
END:VCALENDAR