BEGIN:VCALENDAR
VERSION:2.0
PRODID:-//NARI Central Indiana - ECPv6.15.20//NONSGML v1.0//EN
CALSCALE:GREGORIAN
METHOD:PUBLISH
X-WR-CALNAME:NARI Central Indiana
X-ORIGINAL-URL:https://www.nariindy.com
X-WR-CALDESC:Events for NARI Central Indiana
REFRESH-INTERVAL;VALUE=DURATION:PT1H
X-Robots-Tag:noindex
X-PUBLISHED-TTL:PT1H
BEGIN:VTIMEZONE
TZID:America/Indiana/Indianapolis
BEGIN:DAYLIGHT
TZOFFSETFROM:-0500
TZOFFSETTO:-0400
TZNAME:EDT
DTSTART:20230312T070000
END:DAYLIGHT
BEGIN:STANDARD
TZOFFSETFROM:-0400
TZOFFSETTO:-0500
TZNAME:EST
DTSTART:20231105T060000
END:STANDARD
BEGIN:DAYLIGHT
TZOFFSETFROM:-0500
TZOFFSETTO:-0400
TZNAME:EDT
DTSTART:20240310T070000
END:DAYLIGHT
BEGIN:STANDARD
TZOFFSETFROM:-0400
TZOFFSETTO:-0500
TZNAME:EST
DTSTART:20241103T060000
END:STANDARD
BEGIN:DAYLIGHT
TZOFFSETFROM:-0500
TZOFFSETTO:-0400
TZNAME:EDT
DTSTART:20250309T070000
END:DAYLIGHT
BEGIN:STANDARD
TZOFFSETFROM:-0400
TZOFFSETTO:-0500
TZNAME:EST
DTSTART:20251102T060000
END:STANDARD
END:VTIMEZONE
BEGIN:VEVENT
DTSTART;TZID=America/Indiana/Indianapolis:20240312T113000
DTEND;TZID=America/Indiana/Indianapolis:20240312T130000
DTSTAMP:20260422T191853
CREATED:20230125T143429Z
LAST-MODIFIED:20240301T204107Z
UID:2071-1710243000-1710248400@www.nariindy.com
SUMMARY:Supply Chain Issues and Cost of Materials
DESCRIPTION:  \nCome join BAGI and NARI at MSI Indianapolis for an insightful discussion on the supply chain issues affecting businesses today. We will discuss the impact of these challenges on the cost of materials and strategies to navigate through them. How are you managing these issues and what are you changing? Ben Shipman (84 Lumber) and Julie Pinson (Plumbers Supply) will share best practices. Don’t miss out on this opportunity to gain valuable insights and network with industry professionals!
URL:https://www.nariindy.com/event/https-www-eventbrite-com-e-supply-chain-issues-and-cost-of-materials-tickets-851879433317/
LOCATION:MSI\, 8401 Bearing Drive\, Indianapolis\, 46268\, United States
END:VEVENT
END:VCALENDAR