BEGIN:VCALENDAR
VERSION:2.0
PRODID:-//NARI Central Indiana - ECPv6.15.20//NONSGML v1.0//EN
CALSCALE:GREGORIAN
METHOD:PUBLISH
X-WR-CALNAME:NARI Central Indiana
X-ORIGINAL-URL:https://www.nariindy.com
X-WR-CALDESC:Events for NARI Central Indiana
REFRESH-INTERVAL;VALUE=DURATION:PT1H
X-Robots-Tag:noindex
X-PUBLISHED-TTL:PT1H
BEGIN:VTIMEZONE
TZID:America/Indiana/Indianapolis
BEGIN:DAYLIGHT
TZOFFSETFROM:-0500
TZOFFSETTO:-0400
TZNAME:EDT
DTSTART:20230312T070000
END:DAYLIGHT
BEGIN:STANDARD
TZOFFSETFROM:-0400
TZOFFSETTO:-0500
TZNAME:EST
DTSTART:20231105T060000
END:STANDARD
BEGIN:DAYLIGHT
TZOFFSETFROM:-0500
TZOFFSETTO:-0400
TZNAME:EDT
DTSTART:20240310T070000
END:DAYLIGHT
BEGIN:STANDARD
TZOFFSETFROM:-0400
TZOFFSETTO:-0500
TZNAME:EST
DTSTART:20241103T060000
END:STANDARD
BEGIN:DAYLIGHT
TZOFFSETFROM:-0500
TZOFFSETTO:-0400
TZNAME:EDT
DTSTART:20250309T070000
END:DAYLIGHT
BEGIN:STANDARD
TZOFFSETFROM:-0400
TZOFFSETTO:-0500
TZNAME:EST
DTSTART:20251102T060000
END:STANDARD
END:VTIMEZONE
BEGIN:VEVENT
DTSTART;TZID=America/Indiana/Indianapolis:20240409T233000
DTEND;TZID=America/Indiana/Indianapolis:20240409T233000
DTSTAMP:20260422T172615
CREATED:20230125T143322Z
LAST-MODIFIED:20240327T221503Z
UID:2073-1712705400-1712705400@www.nariindy.com
SUMMARY:Legal Concerns for Remodelers
DESCRIPTION:Legal Concerns for Remodelers\nHosted by NARI\, ASID & NKBA\nJoin NARI\, ASID & NKBA for an afternoon of learning and networking as we delve into the legal concerns for remodelers.  Our expert speaker\, Paul Carroll\, will cover topics such as contracts\, permits\, and liability issues to help you navigate the legal landscape of the remodeling industry.  Don’t miss this opportunity to stay informed and protect your business. \nLocated at Mont Surfaces\, 5945 W 84th Street\, Suite A\, Indianapolis\, IN 46278 \nTuesday\, April 9th\n11:30 PM – 1:00 PM \nThank you to our lunch sponsor\, Sherwin Williams \n \n  \n\n\n\n\n\n\n\n\n\n\n\n\n\n\n\n\n\n\n\n\n\n\n\n\n\n\n 
URL:https://www.nariindy.com/event/https-www-eventbrite-com-e-legal-concerns-for-remodelers-tickets-869367470507/
LOCATION:Mont Granite\, 5945 W 84th St\, Suite A\, Indianapolis\, IN\, 46378 \, United States
ATTACH;FMTTYPE=image/jpeg:https://www.nariindy.com/wp-content/uploads/2023/01/Paul-Carroll2.jpeg
END:VEVENT
END:VCALENDAR