BEGIN:VCALENDAR
VERSION:2.0
PRODID:-//NARI Central Indiana - ECPv6.15.20//NONSGML v1.0//EN
CALSCALE:GREGORIAN
METHOD:PUBLISH
X-WR-CALNAME:NARI Central Indiana
X-ORIGINAL-URL:https://www.nariindy.com
X-WR-CALDESC:Events for NARI Central Indiana
REFRESH-INTERVAL;VALUE=DURATION:PT1H
X-Robots-Tag:noindex
X-PUBLISHED-TTL:PT1H
BEGIN:VTIMEZONE
TZID:America/Indiana/Indianapolis
BEGIN:DAYLIGHT
TZOFFSETFROM:-0500
TZOFFSETTO:-0400
TZNAME:EDT
DTSTART:20230312T070000
END:DAYLIGHT
BEGIN:STANDARD
TZOFFSETFROM:-0400
TZOFFSETTO:-0500
TZNAME:EST
DTSTART:20231105T060000
END:STANDARD
BEGIN:DAYLIGHT
TZOFFSETFROM:-0500
TZOFFSETTO:-0400
TZNAME:EDT
DTSTART:20240310T070000
END:DAYLIGHT
BEGIN:STANDARD
TZOFFSETFROM:-0400
TZOFFSETTO:-0500
TZNAME:EST
DTSTART:20241103T060000
END:STANDARD
BEGIN:DAYLIGHT
TZOFFSETFROM:-0500
TZOFFSETTO:-0400
TZNAME:EDT
DTSTART:20250309T070000
END:DAYLIGHT
BEGIN:STANDARD
TZOFFSETFROM:-0400
TZOFFSETTO:-0500
TZNAME:EST
DTSTART:20251102T060000
END:STANDARD
END:VTIMEZONE
BEGIN:VEVENT
DTSTART;TZID=America/Indiana/Indianapolis:20240514T113000
DTEND;TZID=America/Indiana/Indianapolis:20240514T130000
DTSTAMP:20260422T154743
CREATED:20230125T144559Z
LAST-MODIFIED:20240507T123348Z
UID:2087-1715686200-1715691600@www.nariindy.com
SUMMARY:Pike High School Career and Stem Center
DESCRIPTION:Join us for an exciting event where experts in remodeling and design will share their tips and tricks for creating the perfect space! Whether you’re working on a kitchen\, bathroom\, or any other area of the home\, this panel discussion at Pike High School is the place to be. Get inspired\, ask questions\, and learn from peers in the industry. Don’t miss out on this opportunity to network and learn the most current trends!\n\nDesign Panel Featuring:\n\nDiana Daniely – Outside Builder Sales at Ferguson Enterprises\n\nAlex Cain – Terrritory Sales Manager\, Design Liaison and Trade Representative at Tisdale Distributing – Wolf/Sub-Zero/Cove Appliances\n\nSallie Lord – Interior Designer/Founder of GreyHunt Interiors\n\nJudd Lord – Senior Director of Industrial Design at Delta Faucet Company\n\n*Enter through the main doors at Pike High School.  Please arrive a few minutes early to allow time for registration within the school*
URL:https://www.nariindy.com/event/speedway-revitalization/
LOCATION:Pike High School\, 5401 W 71st Street\, Indianapolis\, IN\, 46268\, United States
END:VEVENT
END:VCALENDAR