BEGIN:VCALENDAR
VERSION:2.0
PRODID:-//NARI Central Indiana - ECPv6.15.20//NONSGML v1.0//EN
CALSCALE:GREGORIAN
METHOD:PUBLISH
X-ORIGINAL-URL:https://www.nariindy.com
X-WR-CALDESC:Events for NARI Central Indiana
REFRESH-INTERVAL;VALUE=DURATION:PT1H
X-Robots-Tag:noindex
X-PUBLISHED-TTL:PT1H
BEGIN:VTIMEZONE
TZID:America/Indiana/Indianapolis
BEGIN:DAYLIGHT
TZOFFSETFROM:-0500
TZOFFSETTO:-0400
TZNAME:EDT
DTSTART:20230312T070000
END:DAYLIGHT
BEGIN:STANDARD
TZOFFSETFROM:-0400
TZOFFSETTO:-0500
TZNAME:EST
DTSTART:20231105T060000
END:STANDARD
BEGIN:DAYLIGHT
TZOFFSETFROM:-0500
TZOFFSETTO:-0400
TZNAME:EDT
DTSTART:20240310T070000
END:DAYLIGHT
BEGIN:STANDARD
TZOFFSETFROM:-0400
TZOFFSETTO:-0500
TZNAME:EST
DTSTART:20241103T060000
END:STANDARD
BEGIN:DAYLIGHT
TZOFFSETFROM:-0500
TZOFFSETTO:-0400
TZNAME:EDT
DTSTART:20250309T070000
END:DAYLIGHT
BEGIN:STANDARD
TZOFFSETFROM:-0400
TZOFFSETTO:-0500
TZNAME:EST
DTSTART:20251102T060000
END:STANDARD
END:VTIMEZONE
BEGIN:VEVENT
DTSTART;TZID=America/Indiana/Indianapolis:20240611T113000
DTEND;TZID=America/Indiana/Indianapolis:20240611T130000
DTSTAMP:20260422T134825
CREATED:20230125T143927Z
LAST-MODIFIED:20240521T195246Z
UID:2081-1718105400-1718110800@www.nariindy.com
SUMMARY:Blum Hardware AgeExplorer Age Simulation Suit
DESCRIPTION:AGE EXPLORER® DEMONSTRATION \nBlum has made sure to test their products against evolving needs of kitchen users with the AGE EXPLORER® suit\, which allows the wearer to experience simulated physical limitations for movement\, sight\, touch\, and hearing that naturally change as we go through life. Blum uses this suit to conduct research and determine how to design or enhance products that will make working in the kitchen an easy task for anyone at any stage in life. \nJoin NARI\, NKBA and ASID for this unique demonstration allowing us to view the challenges that aging individuals face within the home and how new products are being developed to assist. Don’t miss out on this eye-opening experience! \nRegister now at the button below! \nDate: June 11\, 2024 \nTime: 11:30am – 1:00pm \nCost: FREE (lunch included) \nLocation:  A\Co
URL:https://www.nariindy.com/event/plumbers-supply-showroom-topic-tbd/
LOCATION:A/Co\, 8100 E 106th Street\, Fishers\, IN\, United States
END:VEVENT
END:VCALENDAR