BEGIN:VCALENDAR
VERSION:2.0
PRODID:-//NARI Central Indiana - ECPv6.15.20//NONSGML v1.0//EN
CALSCALE:GREGORIAN
METHOD:PUBLISH
X-WR-CALNAME:NARI Central Indiana
X-ORIGINAL-URL:https://www.nariindy.com
X-WR-CALDESC:Events for NARI Central Indiana
REFRESH-INTERVAL;VALUE=DURATION:PT1H
X-Robots-Tag:noindex
X-PUBLISHED-TTL:PT1H
BEGIN:VTIMEZONE
TZID:America/Indiana/Indianapolis
BEGIN:DAYLIGHT
TZOFFSETFROM:-0500
TZOFFSETTO:-0400
TZNAME:EDT
DTSTART:20230312T070000
END:DAYLIGHT
BEGIN:STANDARD
TZOFFSETFROM:-0400
TZOFFSETTO:-0500
TZNAME:EST
DTSTART:20231105T060000
END:STANDARD
BEGIN:DAYLIGHT
TZOFFSETFROM:-0500
TZOFFSETTO:-0400
TZNAME:EDT
DTSTART:20240310T070000
END:DAYLIGHT
BEGIN:STANDARD
TZOFFSETFROM:-0400
TZOFFSETTO:-0500
TZNAME:EST
DTSTART:20241103T060000
END:STANDARD
BEGIN:DAYLIGHT
TZOFFSETFROM:-0500
TZOFFSETTO:-0400
TZNAME:EDT
DTSTART:20250309T070000
END:DAYLIGHT
BEGIN:STANDARD
TZOFFSETFROM:-0400
TZOFFSETTO:-0500
TZNAME:EST
DTSTART:20251102T060000
END:STANDARD
END:VTIMEZONE
BEGIN:VEVENT
DTSTART;TZID=America/Indiana/Indianapolis:20240709T113000
DTEND;TZID=America/Indiana/Indianapolis:20240709T130000
DTSTAMP:20260422T121011
CREATED:20230125T145223Z
LAST-MODIFIED:20240628T192636Z
UID:2091-1720524600-1720530000@www.nariindy.com
SUMMARY:What Goes Into Building a Luxury Home
DESCRIPTION:Join us at The G&G Home-A-Rama Home in the The Promontory of Zionsville for an exclusive event: What Goes Into Building a Luxury Home. Ever wondered how those stunning homes are created? This is your chance to find out! Your industry peers will discuss their experience\, take questions and share insider tips and tricks along the way. Don’t miss this opportunity to gain valuable insights and network with like-minded individuals. Reserve your spot today!\n\nThe G&G Home is the last home on the left on Windy Hills Drive (You can use 9825 Windy Hills Drive to get you into the neighborhood). Street parking only. We will provide booties for your shoes that must be worn inside the home.\n\n\n \n  \n 
URL:https://www.nariindy.com/event/guided-showroom-tour/
LOCATION:Promontory of Zionsville\, 1000 E\, Zionsville\, 46077\, United States
END:VEVENT
END:VCALENDAR