BEGIN:VCALENDAR
VERSION:2.0
PRODID:-//NARI Central Indiana - ECPv6.15.20//NONSGML v1.0//EN
CALSCALE:GREGORIAN
METHOD:PUBLISH
X-WR-CALNAME:NARI Central Indiana
X-ORIGINAL-URL:https://www.nariindy.com
X-WR-CALDESC:Events for NARI Central Indiana
REFRESH-INTERVAL;VALUE=DURATION:PT1H
X-Robots-Tag:noindex
X-PUBLISHED-TTL:PT1H
BEGIN:VTIMEZONE
TZID:America/Indiana/Indianapolis
BEGIN:DAYLIGHT
TZOFFSETFROM:-0500
TZOFFSETTO:-0400
TZNAME:EDT
DTSTART:20230312T070000
END:DAYLIGHT
BEGIN:STANDARD
TZOFFSETFROM:-0400
TZOFFSETTO:-0500
TZNAME:EST
DTSTART:20231105T060000
END:STANDARD
BEGIN:DAYLIGHT
TZOFFSETFROM:-0500
TZOFFSETTO:-0400
TZNAME:EDT
DTSTART:20240310T070000
END:DAYLIGHT
BEGIN:STANDARD
TZOFFSETFROM:-0400
TZOFFSETTO:-0500
TZNAME:EST
DTSTART:20241103T060000
END:STANDARD
BEGIN:DAYLIGHT
TZOFFSETFROM:-0500
TZOFFSETTO:-0400
TZNAME:EDT
DTSTART:20250309T070000
END:DAYLIGHT
BEGIN:STANDARD
TZOFFSETFROM:-0400
TZOFFSETTO:-0500
TZNAME:EST
DTSTART:20251102T060000
END:STANDARD
END:VTIMEZONE
BEGIN:VEVENT
DTSTART;TZID=America/Indiana/Indianapolis:20241112T113000
DTEND;TZID=America/Indiana/Indianapolis:20241112T130000
DTSTAMP:20260422T051412
CREATED:20230125T152045Z
LAST-MODIFIED:20241104T204548Z
UID:2106-1731411000-1731416400@www.nariindy.com
SUMMARY:Connecting With Your Customers
DESCRIPTION:Join us for this very informative and important workshop with Kristen Miller\, CEO\, Talent Rx.  Discover your own communication style\, and better connect with your customers and vendors. \nPrior to the meeting\, please complete the FREE personality assessment at www.16personalities.com.  Be sure to bring your results with you to the meeting. \nAt this workshop\, each participant will be provided with a worksheet to use during the presentation which will provide a key takeaway of an action plan to use with a challenging client or vendor. \nParticipants will learn how to predict what another person’s style is and how to adapt communication and proposals\, etc to better connect with the individual.
URL:https://www.nariindy.com/event/how-interior-design-and-staging-fit-into-remodeling/
LOCATION:Virginia Tile\, 4161 E 96th St\, Indianapolis\, IN\, 46077\, United States
END:VEVENT
END:VCALENDAR