BEGIN:VCALENDAR
VERSION:2.0
PRODID:-//NARI Central Indiana - ECPv6.15.20//NONSGML v1.0//EN
CALSCALE:GREGORIAN
METHOD:PUBLISH
X-ORIGINAL-URL:https://www.nariindy.com
X-WR-CALDESC:Events for NARI Central Indiana
REFRESH-INTERVAL;VALUE=DURATION:PT1H
X-Robots-Tag:noindex
X-PUBLISHED-TTL:PT1H
BEGIN:VTIMEZONE
TZID:America/Indiana/Indianapolis
BEGIN:DAYLIGHT
TZOFFSETFROM:-0500
TZOFFSETTO:-0400
TZNAME:EDT
DTSTART:20230312T070000
END:DAYLIGHT
BEGIN:STANDARD
TZOFFSETFROM:-0400
TZOFFSETTO:-0500
TZNAME:EST
DTSTART:20231105T060000
END:STANDARD
BEGIN:DAYLIGHT
TZOFFSETFROM:-0500
TZOFFSETTO:-0400
TZNAME:EDT
DTSTART:20240310T070000
END:DAYLIGHT
BEGIN:STANDARD
TZOFFSETFROM:-0400
TZOFFSETTO:-0500
TZNAME:EST
DTSTART:20241103T060000
END:STANDARD
BEGIN:DAYLIGHT
TZOFFSETFROM:-0500
TZOFFSETTO:-0400
TZNAME:EDT
DTSTART:20250309T070000
END:DAYLIGHT
BEGIN:STANDARD
TZOFFSETFROM:-0400
TZOFFSETTO:-0500
TZNAME:EST
DTSTART:20251102T060000
END:STANDARD
END:VTIMEZONE
BEGIN:VEVENT
DTSTART;TZID=America/Indiana/Indianapolis:20241210T113000
DTEND;TZID=America/Indiana/Indianapolis:20241210T130000
DTSTAMP:20260422T034132
CREATED:20230125T152918Z
LAST-MODIFIED:20241130T013746Z
UID:2111-1733830200-1733835600@www.nariindy.com
SUMMARY:Holiday Party!
DESCRIPTION:Please join us for our annual Holiday Party hosted by and located at Ferguson Bath\, Kitchen and Lighting Gallery in the Indianapolis Design Center in Carmel. \nWe have a festive\, fun-filled afternoon planned including a wonderful holiday lunch provided by Ferguson and Chef Kat.  We will also have a cozy hot chocolate station sponsored by Gettum Remodeling\, DIY ornament crafting sponsored by A\Co and a holiday cocktail competition sponsored by Indy Custom Stone. \nPlease bring a new\, unwrapped toy to donate to Toys For Tots. \nDon’t miss out on this fun afternoon to network and celebrate the holiday season!  We can’t wait to see you there! \n \n  \n  \n 
URL:https://www.nariindy.com/event/holiday-party/
LOCATION:Ferguson Showroom\, 200 S. Rangeline Rd\, Carmel\, IN\, 46032
ATTACH;FMTTYPE=image/jpeg:https://www.nariindy.com/wp-content/uploads/2023/01/IMG_0092.jpeg
END:VEVENT
END:VCALENDAR