BEGIN:VCALENDAR
VERSION:2.0
PRODID:-//NARI Central Indiana - ECPv6.15.20//NONSGML v1.0//EN
CALSCALE:GREGORIAN
METHOD:PUBLISH
X-ORIGINAL-URL:https://www.nariindy.com
X-WR-CALDESC:Events for NARI Central Indiana
REFRESH-INTERVAL;VALUE=DURATION:PT1H
X-Robots-Tag:noindex
X-PUBLISHED-TTL:PT1H
BEGIN:VTIMEZONE
TZID:America/Indiana/Indianapolis
BEGIN:DAYLIGHT
TZOFFSETFROM:-0500
TZOFFSETTO:-0400
TZNAME:EDT
DTSTART:20240310T070000
END:DAYLIGHT
BEGIN:STANDARD
TZOFFSETFROM:-0400
TZOFFSETTO:-0500
TZNAME:EST
DTSTART:20241103T060000
END:STANDARD
BEGIN:DAYLIGHT
TZOFFSETFROM:-0500
TZOFFSETTO:-0400
TZNAME:EDT
DTSTART:20250309T070000
END:DAYLIGHT
BEGIN:STANDARD
TZOFFSETFROM:-0400
TZOFFSETTO:-0500
TZNAME:EST
DTSTART:20251102T060000
END:STANDARD
BEGIN:DAYLIGHT
TZOFFSETFROM:-0500
TZOFFSETTO:-0400
TZNAME:EDT
DTSTART:20260308T070000
END:DAYLIGHT
BEGIN:STANDARD
TZOFFSETFROM:-0400
TZOFFSETTO:-0500
TZNAME:EST
DTSTART:20261101T060000
END:STANDARD
END:VTIMEZONE
BEGIN:VEVENT
DTSTART;TZID=America/Indiana/Indianapolis:20250211T113000
DTEND;TZID=America/Indiana/Indianapolis:20250211T130000
DTSTAMP:20260422T002725
CREATED:20250122T191716Z
LAST-MODIFIED:20250122T191716Z
UID:2853-1739273400-1739278800@www.nariindy.com
SUMMARY:Exterior Remodeling
DESCRIPTION:J0in us as we kick off our 2025 “Remodeling Done Right” education series of events.  The February event will include a networking opportunity with other NARI members and a lively discussion on all things exterior remodeling – learn how to do it right! \nDiscussion will be led by Tom Fisher from Malarkey Roofing\, Eric Gulbrandsen and Ryan Lee from McComb Pella and John Babcock from Wausau Supply/Diamond Kote Siding Systems. \nLearn all about the latest trends and techniques for transforming the exterior of a home. Our experts will be sharing valuable insights and tips. This in-person event will be held at McComb Pella Window & Door.
URL:https://www.nariindy.com/event/exterior-remodeling/
LOCATION:McComb Pella Window & Door\, 4705 E 96th St\, Indianapolis\, IN\, 46240\, United States
END:VEVENT
END:VCALENDAR