BEGIN:VCALENDAR
VERSION:2.0
PRODID:-//NARI Central Indiana - ECPv6.15.20//NONSGML v1.0//EN
CALSCALE:GREGORIAN
METHOD:PUBLISH
X-ORIGINAL-URL:https://www.nariindy.com
X-WR-CALDESC:Events for NARI Central Indiana
REFRESH-INTERVAL;VALUE=DURATION:PT1H
X-Robots-Tag:noindex
X-PUBLISHED-TTL:PT1H
BEGIN:VTIMEZONE
TZID:America/Indiana/Indianapolis
BEGIN:DAYLIGHT
TZOFFSETFROM:-0500
TZOFFSETTO:-0400
TZNAME:EDT
DTSTART:20240310T070000
END:DAYLIGHT
BEGIN:STANDARD
TZOFFSETFROM:-0400
TZOFFSETTO:-0500
TZNAME:EST
DTSTART:20241103T060000
END:STANDARD
BEGIN:DAYLIGHT
TZOFFSETFROM:-0500
TZOFFSETTO:-0400
TZNAME:EDT
DTSTART:20250309T070000
END:DAYLIGHT
BEGIN:STANDARD
TZOFFSETFROM:-0400
TZOFFSETTO:-0500
TZNAME:EST
DTSTART:20251102T060000
END:STANDARD
BEGIN:DAYLIGHT
TZOFFSETFROM:-0500
TZOFFSETTO:-0400
TZNAME:EDT
DTSTART:20260308T070000
END:DAYLIGHT
BEGIN:STANDARD
TZOFFSETFROM:-0400
TZOFFSETTO:-0500
TZNAME:EST
DTSTART:20261101T060000
END:STANDARD
END:VTIMEZONE
BEGIN:VEVENT
DTSTART;TZID=America/Indiana/Indianapolis:20250408T113000
DTEND;TZID=America/Indiana/Indianapolis:20250408T130000
DTSTAMP:20260421T205424
CREATED:20250220T140621Z
LAST-MODIFIED:20250313T184906Z
UID:2948-1744111800-1744117200@www.nariindy.com
SUMMARY:Workforce Development
DESCRIPTION:Workforce Development \nJoin Central Indiana NARI on April 8\, 2025\, for an engaging Workforce Development Panel\, where industry leaders and experts come together to discuss the future of the remodeling and construction workforce.  This event will focus on key strategies to address workforce challenges\, foster growth\, and inspire the next generation of skilled professionals. \nAttendees will gain valuable insights into the workforce trends\, recruitment techniques\, training opportunities\, and the importance of diversity and inclusion in the industry.  The panel will also explore partnerships and programs that support workforce development\, including collaborations with educational institutions and community organizations.  Whether you’re a business owner\, HR professional\, educator\, or industry enthusiast\, this panel is an excellent opportunity to network\, learn\, and contribute to shaping a stronger\, more sustainable workforce for the remodeling and construction industry. \nEvent Highlights: \n\nExpert panel discussions on workforce development strategies.\nInsights into industry trends and challenges.\nOpportunities to network with professionals and leaders in the field.\nA unique chance to network with remodeling industry professionals\, exchange ideas\, and build valuable connections that can drive your business forward.\n\nMark your calendars for April 8\, 2025\, and be part of this important conversation driving the future of our industry!
URL:https://www.nariindy.com/event/workforce-development-2/
LOCATION:HER Design Build\, 4400 West 96th St\, Indianapolis\, 46268\, United States
END:VEVENT
BEGIN:VEVENT
DTSTART;TZID=America/Indiana/Indianapolis:20250428T110000
DTEND;TZID=America/Indiana/Indianapolis:20250428T130000
DTSTAMP:20260421T205424
CREATED:20250411T171328Z
LAST-MODIFIED:20250411T172017Z
UID:3270-1745838000-1745845200@www.nariindy.com
SUMMARY:NARI Decorators’ Show House Tour & Lunch
DESCRIPTION:NARI is excited to announce an exclusive tour and lunch at this year’s St. Margaret’s Hospital Guild Decorators’ Show House & Gardens!  This special event\, for NARI members\, will take place on Monday\, April 28th from 11am – 1pm. The Show House is located at 5676 N. Pennsylvania St. \nWe hope you can join us for a beautiful afternoon to explore stunning designs and get inspired by the innovation of local designers and remodelers. \n\nGather fresh ideas for your next project\nEnjoy lunch with fellow NARI members\nConnect with professionals who share your passion within the industry\n\nNARI is offering exclusive discounted pricing of $10 for NARI Members\, which includes the private tour and lunch. Space is limited\, so don’t wait! \nRegister here to pay the special NARI discounted fee and secure your spot!!  \nMark your Calendars! We look forward to seeing you there! \nThis event has been made possible by the generous support of our sponsors! \n                                                                           THANK YOU! \n     \n     \n \n  \n  \n  \n  \n  \n 
URL:https://www.nariindy.com/event/nari-decorators-show-house-tour-lunch/
LOCATION:Decorators’ Show House & Gardens\, 5676 N Pennsylvania St\, Indianapolis\, IN\, 46220\, United States
ATTACH;FMTTYPE=image/jpeg:https://www.nariindy.com/wp-content/uploads/2025/04/IMG_6187.jpeg
END:VEVENT
END:VCALENDAR