BEGIN:VCALENDAR
VERSION:2.0
PRODID:-//NARI Central Indiana - ECPv6.15.20//NONSGML v1.0//EN
CALSCALE:GREGORIAN
METHOD:PUBLISH
X-WR-CALNAME:NARI Central Indiana
X-ORIGINAL-URL:https://www.nariindy.com
X-WR-CALDESC:Events for NARI Central Indiana
REFRESH-INTERVAL;VALUE=DURATION:PT1H
X-Robots-Tag:noindex
X-PUBLISHED-TTL:PT1H
BEGIN:VTIMEZONE
TZID:America/Indiana/Indianapolis
BEGIN:DAYLIGHT
TZOFFSETFROM:-0500
TZOFFSETTO:-0400
TZNAME:EDT
DTSTART:20240310T070000
END:DAYLIGHT
BEGIN:STANDARD
TZOFFSETFROM:-0400
TZOFFSETTO:-0500
TZNAME:EST
DTSTART:20241103T060000
END:STANDARD
BEGIN:DAYLIGHT
TZOFFSETFROM:-0500
TZOFFSETTO:-0400
TZNAME:EDT
DTSTART:20250309T070000
END:DAYLIGHT
BEGIN:STANDARD
TZOFFSETFROM:-0400
TZOFFSETTO:-0500
TZNAME:EST
DTSTART:20251102T060000
END:STANDARD
BEGIN:DAYLIGHT
TZOFFSETFROM:-0500
TZOFFSETTO:-0400
TZNAME:EDT
DTSTART:20260308T070000
END:DAYLIGHT
BEGIN:STANDARD
TZOFFSETFROM:-0400
TZOFFSETTO:-0500
TZNAME:EST
DTSTART:20261101T060000
END:STANDARD
END:VTIMEZONE
BEGIN:VEVENT
DTSTART;VALUE=DATE:20250716
DTEND;VALUE=DATE:20250717
DTSTAMP:20260421T160759
CREATED:20250226T162815Z
LAST-MODIFIED:20250521T120851Z
UID:2975-1752624000-1752710399@www.nariindy.com
SUMMARY:Sub-Zero\, Wolf and Cove Showroom Tour And Culinary Experience
DESCRIPTION:YOU’RE INVITED TO THE \nCHEF’S TABLE \nA CULINARY EXPERIENCE \nJoin us to experience the unrivaled performance and quality of our\nbrands\, while enjoying a complimentary multi-course meal. Executive\nChef Brandie will be demonstrating the various features of our appliances\,\nwhile answering all of your technical\, design\, and culinary questions. \nHOSTED AT THE SUB-ZERO\, WOLF\, AND COVE SHOWROOM BY TISDEL\nTHE KENWOOD COLLECTION\, LEVEL R2 | 5901 E GALBRAITH ROAD\, CINCINNATI\, OH 45236 \nREGISTER now at the button below to secure your spot! \n  \n \n 
URL:https://www.nariindy.com/event/sub-zero-wolf-and-cove-showroom-tour/
LOCATION:Sub-Zero\, Wolf and Cove Showroom\, 5901 E Galbraith Rd\, Level R2\, Cincinnati\, OH\, 45236\, United States
ATTACH;FMTTYPE=image/jpeg:https://www.nariindy.com/wp-content/uploads/2025/02/IMG_0532.jpeg
END:VEVENT
BEGIN:VEVENT
DTSTART;TZID=America/Indiana/Indianapolis:20250731T170000
DTEND;TZID=America/Indiana/Indianapolis:20250731T190000
DTSTAMP:20260421T160759
CREATED:20250502T205414Z
LAST-MODIFIED:20250605T170535Z
UID:3376-1753981200-1753988400@www.nariindy.com
SUMMARY:Happy Hour
DESCRIPTION:Happy Hour! \nEnjoy a fun evening of networking! Let’s kick back\, have some fun\, and build stronger connections together! \nDistrict Tap \n3720 E 82nd St \nIndianapolis\, IN 46240 \nThursday\, July 31st   5pm – 7pm
URL:https://www.nariindy.com/event/happy-hour-6/
LOCATION:District Tap\, 3720 E 82nd St\, Indianapolis\, IN\, 46240\, United States
END:VEVENT
END:VCALENDAR