BEGIN:VCALENDAR
VERSION:2.0
PRODID:-//NARI Central Indiana - ECPv6.15.20//NONSGML v1.0//EN
CALSCALE:GREGORIAN
METHOD:PUBLISH
X-WR-CALNAME:NARI Central Indiana
X-ORIGINAL-URL:https://www.nariindy.com
X-WR-CALDESC:Events for NARI Central Indiana
REFRESH-INTERVAL;VALUE=DURATION:PT1H
X-Robots-Tag:noindex
X-PUBLISHED-TTL:PT1H
BEGIN:VTIMEZONE
TZID:America/Indiana/Indianapolis
BEGIN:DAYLIGHT
TZOFFSETFROM:-0500
TZOFFSETTO:-0400
TZNAME:EDT
DTSTART:20240310T070000
END:DAYLIGHT
BEGIN:STANDARD
TZOFFSETFROM:-0400
TZOFFSETTO:-0500
TZNAME:EST
DTSTART:20241103T060000
END:STANDARD
BEGIN:DAYLIGHT
TZOFFSETFROM:-0500
TZOFFSETTO:-0400
TZNAME:EDT
DTSTART:20250309T070000
END:DAYLIGHT
BEGIN:STANDARD
TZOFFSETFROM:-0400
TZOFFSETTO:-0500
TZNAME:EST
DTSTART:20251102T060000
END:STANDARD
BEGIN:DAYLIGHT
TZOFFSETFROM:-0500
TZOFFSETTO:-0400
TZNAME:EDT
DTSTART:20260308T070000
END:DAYLIGHT
BEGIN:STANDARD
TZOFFSETFROM:-0400
TZOFFSETTO:-0500
TZNAME:EST
DTSTART:20261101T060000
END:STANDARD
END:VTIMEZONE
BEGIN:VEVENT
DTSTART;TZID=America/Indiana/Indianapolis:20250812T113000
DTEND;TZID=America/Indiana/Indianapolis:20250812T130000
DTSTAMP:20260421T141928
CREATED:20250226T163209Z
LAST-MODIFIED:20250725T184601Z
UID:2977-1754998200-1755003600@www.nariindy.com
SUMMARY:Business Development & Forecasting
DESCRIPTION:Join us for an engaging and collaborative discussion focused on the future of remodeling businesses. This is a valuable opportunity to connect with peers in the industry and explore strategies for growth\, sustainability\, and long-term planning. \nDiscussion Topics Will Include: \n\nHow are you generating leads in today’s market?\nDo you have a “rainmaker” on your team—and what does that role look like?\nAre you managing a backlog? If so\, what systems or processes are helping you stay on track?\nHow are you starting to position your business for success in 2026?\n\nBring your insights\, questions\, and an open mind as we look ahead and support one another in building stronger\, smarter businesses in the remodeling industry. \n? Date: 8/12/25? Time: 11:30am – 1:00pm? Location: Chateau Kitchens\, 301 E Carmel Drive\, Carmel\, IN 46032 \nWe look forward to seeing you there!
URL:https://www.nariindy.com/event/design-trends/
LOCATION:Chateau Kitchens\, 301 E Carmel Dr\, Carmel\, IN\, 46032\, United States
END:VEVENT
END:VCALENDAR