BEGIN:VCALENDAR
VERSION:2.0
PRODID:-//NARI Central Indiana - ECPv6.15.20//NONSGML v1.0//EN
CALSCALE:GREGORIAN
METHOD:PUBLISH
X-ORIGINAL-URL:https://www.nariindy.com
X-WR-CALDESC:Events for NARI Central Indiana
REFRESH-INTERVAL;VALUE=DURATION:PT1H
X-Robots-Tag:noindex
X-PUBLISHED-TTL:PT1H
BEGIN:VTIMEZONE
TZID:America/Indiana/Indianapolis
BEGIN:DAYLIGHT
TZOFFSETFROM:-0500
TZOFFSETTO:-0400
TZNAME:EDT
DTSTART:20240310T070000
END:DAYLIGHT
BEGIN:STANDARD
TZOFFSETFROM:-0400
TZOFFSETTO:-0500
TZNAME:EST
DTSTART:20241103T060000
END:STANDARD
BEGIN:DAYLIGHT
TZOFFSETFROM:-0500
TZOFFSETTO:-0400
TZNAME:EDT
DTSTART:20250309T070000
END:DAYLIGHT
BEGIN:STANDARD
TZOFFSETFROM:-0400
TZOFFSETTO:-0500
TZNAME:EST
DTSTART:20251102T060000
END:STANDARD
BEGIN:DAYLIGHT
TZOFFSETFROM:-0500
TZOFFSETTO:-0400
TZNAME:EDT
DTSTART:20260308T070000
END:DAYLIGHT
BEGIN:STANDARD
TZOFFSETFROM:-0400
TZOFFSETTO:-0500
TZNAME:EST
DTSTART:20261101T060000
END:STANDARD
END:VTIMEZONE
BEGIN:VEVENT
DTSTART;TZID=America/Indiana/Indianapolis:20251014T113000
DTEND;TZID=America/Indiana/Indianapolis:20251014T130000
DTSTAMP:20260421T110849
CREATED:20250226T165205Z
LAST-MODIFIED:20251001T171950Z
UID:2984-1760441400-1760446800@www.nariindy.com
SUMMARY:Quick Pitch:  Fast-paced conversations. Lasting connections.
DESCRIPTION:Quick PitchFast-paced conversations. Lasting connections. \nJoin us for Quick Pitch — a high-energy networking event designed to help you share who you are\, what you do\, and make valuable connections in just minutes! Think of it as a fun\, fast way to introduce yourself and learn about others in our community. \nThis event is open to NARI members as well as anyone interested in exploring membership and the benefits it provides. Whether you’re looking to grow your business\, learn more about NARI\, or simply connect with peers\, this is the event for you. \n? Date: Tuesday\, October 14th? Time: 11:30 AM – 1:00 PM? Location: ICC Showroom7226 East 87th Street\, Suite D1 \nEnjoy a complimentary lunch\, generously sponsored by ICC Showroom\, while building relationships that can make a lasting impact. \nDon’t miss your chance to make your pitch\, meet new people\, and walk away with meaningful connections! \nRSVP NOW!
URL:https://www.nariindy.com/event/quick-pitch/
LOCATION:ICC Showroom\, 7226 East 87th Street Suite D1\, Indianapolis\, IN\, 46256\, United States
END:VEVENT
END:VCALENDAR