BEGIN:VCALENDAR
VERSION:2.0
PRODID:-//NARI Central Indiana - ECPv6.15.20//NONSGML v1.0//EN
CALSCALE:GREGORIAN
METHOD:PUBLISH
X-WR-CALNAME:NARI Central Indiana
X-ORIGINAL-URL:https://www.nariindy.com
X-WR-CALDESC:Events for NARI Central Indiana
REFRESH-INTERVAL;VALUE=DURATION:PT1H
X-Robots-Tag:noindex
X-PUBLISHED-TTL:PT1H
BEGIN:VTIMEZONE
TZID:America/Indiana/Indianapolis
BEGIN:DAYLIGHT
TZOFFSETFROM:-0500
TZOFFSETTO:-0400
TZNAME:EDT
DTSTART:20240310T070000
END:DAYLIGHT
BEGIN:STANDARD
TZOFFSETFROM:-0400
TZOFFSETTO:-0500
TZNAME:EST
DTSTART:20241103T060000
END:STANDARD
BEGIN:DAYLIGHT
TZOFFSETFROM:-0500
TZOFFSETTO:-0400
TZNAME:EDT
DTSTART:20250309T070000
END:DAYLIGHT
BEGIN:STANDARD
TZOFFSETFROM:-0400
TZOFFSETTO:-0500
TZNAME:EST
DTSTART:20251102T060000
END:STANDARD
BEGIN:DAYLIGHT
TZOFFSETFROM:-0500
TZOFFSETTO:-0400
TZNAME:EDT
DTSTART:20260308T070000
END:DAYLIGHT
BEGIN:STANDARD
TZOFFSETFROM:-0400
TZOFFSETTO:-0500
TZNAME:EST
DTSTART:20261101T060000
END:STANDARD
END:VTIMEZONE
BEGIN:VEVENT
DTSTART;TZID=America/Indiana/Indianapolis:20251209T113000
DTEND;TZID=America/Indiana/Indianapolis:20251209T130000
DTSTAMP:20260421T074614
CREATED:20250226T165917Z
LAST-MODIFIED:20251201T211926Z
UID:2988-1765279800-1765285200@www.nariindy.com
SUMMARY:NARI Holiday Party
DESCRIPTION:Join us for our Annual Holiday Party hosted by Ferguson!  Thank you to Ferguson for sponsoring lunch\, A\Co for sponsoring our cocktail tasting and to Gettum Remodeling and HER Design Build for their general sponsorship.  We can’t wait to thank all of you for another fantastic year! \nBe sure to bring your $20-$25 gift for the gift exchange! \n \n 
URL:https://www.nariindy.com/event/nari-holiday-party/
LOCATION:Ferguson Showroom\, 200 S. Rangeline Rd\, Carmel\, IN\, 46032
ATTACH;FMTTYPE=image/jpeg:https://www.nariindy.com/wp-content/uploads/2025/02/IMG_4066.jpeg
END:VEVENT
END:VCALENDAR